BEGIN:VCALENDAR
VERSION:2.0
PRODID:-//AddThisEvent.com v1.0//EN
BEGIN:VEVENT
DTSTAMP:20210223T180000Z
ORGANIZER;CN=STARTUP:MAILTO:info@startup.si
STATUS:CONFIRMED
DTSTART:20210223T180000Z
DTEND:20210223T190000Z
SUMMARY:Start:up Müsli: Email marketing je še vedno IN
DESCRIPTION:Ne\, emaili niso zgodovina. Vedno so bili tvoje najmočnejše orodje za komunikacijo s skupnostjo. Danes je njihova vloga še bolj pomembna\, saj so družbena omrežja postala nepredvidljiva. A uspeh email marketinga ni samoumeven. Zahteva veliko truda in premišljeno strategijo. Pridi na dogodek\, kjer izveš\, kako čim bolje izkoristiti to orodje. \n\n
X-ALT-DESC;FMTTYPE=text/html:Ne\, emaili niso zgodovina. Vedno so bili tvoje najmočnejše orodje za komunikacijo s skupnostjo. Danes je njihova vloga še bolj pomembna\, saj so družbena omrežja postala nepredvidljiva. A uspeh email marketinga ni samoumeven. Zahteva veliko truda in premišljeno strategijo. Pridi na dogodek\, kjer izveš\, kako čim bolje izkoristiti to orodje. \n\n
LOCATION:on-line 
END:VEVENT
END:VCALENDAR