BEGIN:VCALENDAR
VERSION:2.0
PRODID:-//AddThisEvent.com v1.0//EN
BEGIN:VEVENT
DTSTAMP:20210209T180000Z
ORGANIZER;CN=STARTUP:MAILTO:info@startup.si
STATUS:CONFIRMED
DTSTART:20210209T180000Z
DTEND:20210209T190000Z
SUMMARY:Start:up Müsli: (R)evolucija v finančni industriji - davčni in poslovni vidik
DESCRIPTION:Prijavi se na online Start:up Müsli in prisluhni pogovoru insajderjev glede prihodnosti fintech industrije. \n\n
X-ALT-DESC;FMTTYPE=text/html:Prijavi se na online Start:up Müsli in prisluhni pogovoru insajderjev glede prihodnosti fintech industrije. \n\n
LOCATION:on-line
END:VEVENT
END:VCALENDAR