BEGIN:VCALENDAR
VERSION:2.0
PRODID:-//AddThisEvent.com v1.0//EN
BEGIN:VEVENT
DTSTAMP:20210112T080000Z
ORGANIZER;CN=STARTUP:MAILTO:info@startup.si
STATUS:CONFIRMED
DTSTART:20210112T080000Z
DTEND:20210112T090000Z
SUMMARY:Intenzivni program »Postani mojster Facebook oglaševanja«
DESCRIPTION:Pridruži se nam na intenzivnem usposabljanju z mednarodnim strokovnjakom za digitalni marketing Damirjem Butkovičem\, ki vključuje 3 praktične delavnice in vmesno individualno delo. Nauči se ustvariti\, voditi in spremljati uspešne Facebook kampanje od začetka do konca. Prijavi se.  \n\n
X-ALT-DESC;FMTTYPE=text/html:Pridruži se nam na intenzivnem usposabljanju z mednarodnim strokovnjakom za digitalni marketing Damirjem Butkovičem\, ki vključuje 3 praktične delavnice in vmesno individualno delo. Nauči se ustvariti\, voditi in spremljati uspešne Facebook kampanje od začetka do konca. Prijavi se.  \n\n
LOCATION:on-line 
END:VEVENT
END:VCALENDAR