BEGIN:VCALENDAR
VERSION:2.0
PRODID:-//AddThisEvent.com v1.0//EN
BEGIN:VEVENT
DTSTAMP:20210119T140000Z
ORGANIZER;CN=STARTUP:MAILTO:info@startup.si
STATUS:CONFIRMED
DTSTART:20210119T140000Z
DTEND:20210119T150000Z
SUMMARY:Kako izdelku\, storitvi določiti prodajno ceno
DESCRIPTION:Prodajaš svoj produkt ali storitev ali pa si tik pred tem in si želiš dobro nastaviti prodajno ceno\, ki bo omogočala rast tvojega podjetja? Obstaja veliko različnih strategij za oblikovanje cen novih izdelkov\, univerzalna formula žal ne obstaja. Obstajajo pa koraki in vprašanja\, s pomočjo katerih bo odločitev o prodajni ceni veliko lažja. Pridi na delavnico.  \n\n
X-ALT-DESC;FMTTYPE=text/html:Prodajaš svoj produkt ali storitev ali pa si tik pred tem in si želiš dobro nastaviti prodajno ceno\, ki bo omogočala rast tvojega podjetja? Obstaja veliko različnih strategij za oblikovanje cen novih izdelkov\, univerzalna formula žal ne obstaja. Obstajajo pa koraki in vprašanja\, s pomočjo katerih bo odločitev o prodajni ceni veliko lažja. Pridi na delavnico.  \n\n
LOCATION:on-line 
END:VEVENT
END:VCALENDAR