BEGIN:VCALENDAR
VERSION:2.0
PRODID:-//AddThisEvent.com v1.0//EN
BEGIN:VEVENT
DTSTAMP:20201014T130000Z
ORGANIZER;CN=STARTUP:MAILTO:info@startup.si
STATUS:CONFIRMED
DTSTART:20201014T130000Z
DTEND:20201014T140000Z
SUMMARY:Brand as a Friend 
DESCRIPTION:Raziskovalci ocenjujejo\, da je kar 95 % naših nakupnih odločitev sprejetih podzavestno. Je prav to priložnost\, da blagovne znamke z ljudmi zgradijo emocionalno vez in tako pomagajo usmeriti odločitve?  \n\n
X-ALT-DESC;FMTTYPE=text/html:Raziskovalci ocenjujejo\, da je kar 95 % naših nakupnih odločitev sprejetih podzavestno. Je prav to priložnost\, da blagovne znamke z ljudmi zgradijo emocionalno vez in tako pomagajo usmeriti odločitve?  \n\n
LOCATION:Tovarna podjemov
END:VEVENT
END:VCALENDAR