BEGIN:VCALENDAR
VERSION:2.0
PRODID:-//AddThisEvent.com v1.0//EN
BEGIN:VEVENT
DTSTAMP:20210106T080000Z
ORGANIZER;CN=STARTUP:MAILTO:info@startup.si
STATUS:CONFIRMED
DTSTART:20210106T080000Z
DTEND:20210106T090000Z
SUMMARY:Postavi temelje in zgradi uspešno startup podjetje 
DESCRIPTION:Imaš idejo za produkt ali storitev? Se želiš lotiti posla na pravi način? Želiš že na začetku jasno vizualizirati\, kako bo podjetje generiralo denar? Želiš za razvoj 54.000 EUR nepovratnih sredstev? Če je tvoj odgovor na zgornja vprašanja DA\, se nam pridruži na seriji delavnic\, kjer bomo s pomočjo metode »lean canvas« postavili temelje za tvoj startup. 
 \n\n
X-ALT-DESC;FMTTYPE=text/html:Imaš idejo za produkt ali storitev? Se želiš lotiti posla na pravi način? Želiš že na začetku jasno vizualizirati\, kako bo podjetje generiralo denar? Želiš za razvoj 54.000 EUR nepovratnih sredstev? Če je tvoj odgovor na zgornja vprašanja DA\, se nam pridruži na seriji delavnic\, kjer bomo s pomočjo metode »lean canvas« postavili temelje za tvoj startup. 
 \n\n
LOCATION:on-line / Zoom
END:VEVENT
END:VCALENDAR