BEGIN:VCALENDAR
VERSION:2.0
PRODID:-//AddThisEvent.com v1.0//EN
BEGIN:VEVENT
DTSTAMP:20201103T180000Z
ORGANIZER;CN=STARTUP:MAILTO:info@startup.si
STATUS:CONFIRMED
DTSTART:20201103T180000Z
DTEND:20201103T190000Z
SUMMARY:Start:up Müsli: Navdih in podjetniške zgodbe v času koronavirusa
DESCRIPTION:Si podjetnik in te zanima kako so se s »korona krizo« spopadli drugi podjetniki?
Te zanima kako tvoje misli vplivajo na tvojo učinkovitost\, na dojemanje sveta okoli tebe? Kako se spopadeš z negativnimi mislimi in poiščeš rešitev v korona časih tudi za tvoj posel? 
Želiš izvedeti kako ti lahko pri tem pomaga digitalni marketing?
 \n\n
X-ALT-DESC;FMTTYPE=text/html:Si podjetnik in te zanima kako so se s »korona krizo« spopadli drugi podjetniki?
Te zanima kako tvoje misli vplivajo na tvojo učinkovitost\, na dojemanje sveta okoli tebe? Kako se spopadeš z negativnimi mislimi in poiščeš rešitev v korona časih tudi za tvoj posel? 
Želiš izvedeti kako ti lahko pri tem pomaga digitalni marketing?
 \n\n
LOCATION:Online
END:VEVENT
END:VCALENDAR