BEGIN:VCALENDAR
VERSION:2.0
PRODID:-//AddThisEvent.com v1.0//EN
BEGIN:VEVENT
DTSTAMP:20201008T130000Z
ORGANIZER;CN=STARTUP:MAILTO:info@startup.si
STATUS:CONFIRMED
DTSTART:20201008T130000Z
DTEND:20201008T140000Z
SUMMARY:Novosti Facebook oglaševanja
DESCRIPTION:Pravila igre se neprestano spreminjajo! Facebookov algoritem deluje še bolj natančno\, od vas pa ne zahteva več toliko tehničnega znanja kot doslej. Če ste se v preteklosti mučili s pravili\, kako nastaviti oglas\, da bo povečal rast prodaje\, kako testirati in optimizirati kampanje\, to ne bo več tak problem! Da\, dobra novica je\, da je to postalo enostavno!  \n\n
X-ALT-DESC;FMTTYPE=text/html:Pravila igre se neprestano spreminjajo! Facebookov algoritem deluje še bolj natančno\, od vas pa ne zahteva več toliko tehničnega znanja kot doslej. Če ste se v preteklosti mučili s pravili\, kako nastaviti oglas\, da bo povečal rast prodaje\, kako testirati in optimizirati kampanje\, to ne bo več tak problem! Da\, dobra novica je\, da je to postalo enostavno!  \n\n
LOCATION:on-line 
END:VEVENT
END:VCALENDAR