BEGIN:VCALENDAR
VERSION:2.0
PRODID:-//AddThisEvent.com v1.0//EN
BEGIN:VEVENT
DTSTAMP:20200922T130000Z
ORGANIZER;CN=STARTUP:MAILTO:info@startup.si
STATUS:CONFIRMED
DTSTART:20200922T130000Z
DTEND:20200922T140000Z
SUMMARY:Projektno planiranje in vodenje za startupe
DESCRIPTION:Si vodja v startup ali scaleup podjetju?
Se želiš lotiti vodenja na sistematičen in v praksi preverjen in delujoč način? 
Se želiš priučiti uporabe orodij\, ki ti lahko pri tem pomagajo? 
 \n\n
X-ALT-DESC;FMTTYPE=text/html:Si vodja v startup ali scaleup podjetju?
Se želiš lotiti vodenja na sistematičen in v praksi preverjen in delujoč način? 
Se želiš priučiti uporabe orodij\, ki ti lahko pri tem pomagajo? 
 \n\n
LOCATION:Tovarna podjemov
END:VEVENT
END:VCALENDAR