BEGIN:VCALENDAR
VERSION:2.0
PRODID:-//AddThisEvent.com v1.0//EN
BEGIN:VEVENT
DTSTAMP:20150317T180500Z
ORGANIZER;CN=STARTUP:MAILTO:info@startup.si
STATUS:CONFIRMED
DTSTART:20150317T180500Z
DTEND:20150317T190500Z
SUMMARY:Spletne urice #48: CSS v velikih projektih = Nočna mora?
DESCRIPTION:CSS slogi na večjih projektih lahko hitro postanejo nepregledni\, njihovo vzdrževanje pa nočna mora. V predavanju bo predstavljenih nekaj različnih orodij in pristopov za strukturiranje CSS-ja\, s pomočjo katerih ohranjamo kodo berljivo\, pregledno in enostavno za prihodnje razširitve. \n\n
X-ALT-DESC;FMTTYPE=text/html:CSS slogi na večjih projektih lahko hitro postanejo nepregledni\, njihovo vzdrževanje pa nočna mora. V predavanju bo predstavljenih nekaj različnih orodij in pristopov za strukturiranje CSS-ja\, s pomočjo katerih ohranjamo kodo berljivo\, pregledno in enostavno za prihodnje razširitve. \n\n
LOCATION:KIBLA
END:VEVENT
END:VCALENDAR