BEGIN:VCALENDAR
VERSION:2.0
PRODID:-//AddThisEvent.com v1.0//EN
BEGIN:VEVENT
DTSTAMP:20200908T130000Z
ORGANIZER;CN=STARTUP:MAILTO:info@startup.si
STATUS:CONFIRMED
DTSTART:20200908T130000Z
DTEND:20200908T140000Z
SUMMARY:Kako z LinkedIn avtomatizacijo 4x povečati promet podjetja 
DESCRIPTION:Na delavnici z Igorjem Panjanom se bomo naučili\, kako avtomatizirati prodajo na LinkedInu z uporabo različnih orodij. Spoznali boste razne komunikacijske "hacke" in povečali prodajo na LinkedInu.  \n\n
X-ALT-DESC;FMTTYPE=text/html:Na delavnici z Igorjem Panjanom se bomo naučili\, kako avtomatizirati prodajo na LinkedInu z uporabo različnih orodij. Spoznali boste razne komunikacijske "hacke" in povečali prodajo na LinkedInu.  \n\n
LOCATION:Tovarna podjemov
END:VEVENT
END:VCALENDAR