BEGIN:VCALENDAR
VERSION:2.0
PRODID:-//AddThisEvent.com v1.0//EN
BEGIN:VEVENT
DTSTAMP:20150325T080000Z
ORGANIZER;CN=STARTUP:MAILTO:info@startup.si
STATUS:CONFIRMED
DTSTART:20150325T080000Z
DTEND:20150325T090000Z
SUMMARY:Dan odprtih vrat Slovenskega podjetniškega sklada
DESCRIPTION:Slovenski podjetniški sklad organizira dogodek "Dan odprtih vrat Slovenskega podjetniškega sklada"\, ki se bo odvijal 25.3.2015. Dogodek je namenjen podjetnikom\, ki bodo na uvodnih predstavitvah pridobili informacije Sklada o financiranju MLADIH in MSP5+ podjetij\, na info točkah pa se bodo lahko individualno posvetovali o koriščenju državnih pomoči Sklada v letu 2015.   \n\n
X-ALT-DESC;FMTTYPE=text/html:Slovenski podjetniški sklad organizira dogodek "Dan odprtih vrat Slovenskega podjetniškega sklada"\, ki se bo odvijal 25.3.2015. Dogodek je namenjen podjetnikom\, ki bodo na uvodnih predstavitvah pridobili informacije Sklada o financiranju MLADIH in MSP5+ podjetij\, na info točkah pa se bodo lahko individualno posvetovali o koriščenju državnih pomoči Sklada v letu 2015.   \n\n
LOCATION:Poslovno-hotelski objekt City III.\, Ulica kneza Koclja 22
END:VEVENT
END:VCALENDAR