BEGIN:VCALENDAR
VERSION:2.0
PRODID:-//AddThisEvent.com v1.0//EN
BEGIN:VEVENT
DTSTAMP:20200624T130000Z
ORGANIZER;CN=STARTUP:MAILTO:info@startup.si
STATUS:CONFIRMED
DTSTART:20200624T130000Z
DTEND:20200624T140000Z
SUMMARY:Spletno oblikovanje v praksi - FIGMA za začetnike
DESCRIPTION:Pridi na delavnico\, kjer boš pridobil osnovna znanja programa za oblikovanje digitalnih produktov FIGMA. Ta ima precejšnjo prednost na področju skupinskega oblikovanja in deljenja dizajnov ustreznim ‘stackholderjem’\, hkrati pa je osnovno orodje za tiste\, ki želijo ustvarjati digitalne produkte sami ali v sklopu podjetju.  \n\n
X-ALT-DESC;FMTTYPE=text/html:Pridi na delavnico\, kjer boš pridobil osnovna znanja programa za oblikovanje digitalnih produktov FIGMA. Ta ima precejšnjo prednost na področju skupinskega oblikovanja in deljenja dizajnov ustreznim ‘stackholderjem’\, hkrati pa je osnovno orodje za tiste\, ki želijo ustvarjati digitalne produkte sami ali v sklopu podjetju.  \n\n
LOCATION:Tovarna podjemov
END:VEVENT
END:VCALENDAR