BEGIN:VCALENDAR
VERSION:2.0
PRODID:-//AddThisEvent.com v1.0//EN
BEGIN:VEVENT
DTSTAMP:20200609T110000Z
ORGANIZER;CN=STARTUP:MAILTO:info@startup.si
STATUS:CONFIRMED
DTSTART:20200609T110000Z
DTEND:20200609T120000Z
SUMMARY:Z orodji za sodelovanje do večje učinkovitosti ekipe
DESCRIPTION:Pripravite se na jesen in učinkovito komunikacijo preko spleta s svojimi sodelavci\, poslovnimi partnerji ter kupci. Trenutna kriza nas je ujela nepripravljene in zaposlene večine podjetij spravila v  stresno situacijo. Čez noč ... \n\n
X-ALT-DESC;FMTTYPE=text/html:Pripravite se na jesen in učinkovito komunikacijo preko spleta s svojimi sodelavci\, poslovnimi partnerji ter kupci. Trenutna kriza nas je ujela nepripravljene in zaposlene večine podjetij spravila v  stresno situacijo. Čez noč ... \n\n
LOCATION:Tovarna podjemov
END:VEVENT
END:VCALENDAR