BEGIN:VCALENDAR
VERSION:2.0
PRODID:-//AddThisEvent.com v1.0//EN
BEGIN:VEVENT
DTSTAMP:20200609T170000Z
ORGANIZER;CN=STARTUP:MAILTO:info@startup.si
STATUS:CONFIRMED
DTSTART:20200609T170000Z
DTEND:20200609T180000Z
SUMMARY:Start:up Müsli: Kaj se lahko naučimo od zmagovalcev korone
DESCRIPTION:Pogovarjali se bomo z Evo Peternelj iz Peach Booty Plan\, Urbanom Cvekom iz Influee in Jako Blažonom iz Noir Food. Vsem trem podjetnikom je skupno to\, da jih korona kriza ni prizadela. Še več - dala jim je krila\, saj so v tem času svoj posel celo nadgradili. Kaj\, kako in kaj se lahko za prihajajočo jesen iz njihovih zgodb naučite vi\, izveste v sproščenem pogovoru.  \n\n
X-ALT-DESC;FMTTYPE=text/html:Pogovarjali se bomo z Evo Peternelj iz Peach Booty Plan\, Urbanom Cvekom iz Influee in Jako Blažonom iz Noir Food. Vsem trem podjetnikom je skupno to\, da jih korona kriza ni prizadela. Še več - dala jim je krila\, saj so v tem času svoj posel celo nadgradili. Kaj\, kako in kaj se lahko za prihajajočo jesen iz njihovih zgodb naučite vi\, izveste v sproščenem pogovoru.  \n\n
LOCATION:on-line 
END:VEVENT
END:VCALENDAR