BEGIN:VCALENDAR
VERSION:2.0
PRODID:-//AddThisEvent.com v1.0//EN
BEGIN:VEVENT
DTSTAMP:20200129T170000Z
ORGANIZER;CN=STARTUP:MAILTO:info@startup.si
STATUS:CONFIRMED
DTSTART:20200129T170000Z
DTEND:20200129T180000Z
SUMMARY:Start:up Pisarna: Kako narediti prvi korak v svet podjetništva
DESCRIPTION:Študentski čas – čas\, ko nimaš drugih obveznosti razen študijskih. Uživaš v hotelu mama\, si mlad\, poln energije in idej. Torej idealni čas za testiranje zamisli\, za učenje in povezovanje. Veliko danes uspešnih podjetnikov je svojo poslovno pot štartalo prav v študentskih letih. Eno izmed uspešnih študentskih zgodb je sestavil tudi Luka Topolovec. Slišali ga bomo na dogodku v Pisarni.  \n\n
X-ALT-DESC;FMTTYPE=text/html:Študentski čas – čas\, ko nimaš drugih obveznosti razen študijskih. Uživaš v hotelu mama\, si mlad\, poln energije in idej. Torej idealni čas za testiranje zamisli\, za učenje in povezovanje. Veliko danes uspešnih podjetnikov je svojo poslovno pot štartalo prav v študentskih letih. Eno izmed uspešnih študentskih zgodb je sestavil tudi Luka Topolovec. Slišali ga bomo na dogodku v Pisarni.  \n\n
LOCATION:Pisarna
END:VEVENT
END:VCALENDAR