BEGIN:VCALENDAR
VERSION:2.0
PRODID:-//AddThisEvent.com v1.0//EN
BEGIN:VEVENT
DTSTAMP:20200127T150000Z
ORGANIZER;CN=STARTUP:MAILTO:info@startup.si
STATUS:CONFIRMED
DTSTART:20200127T150000Z
DTEND:20200127T160000Z
SUMMARY:Kako do 54.000 EUR nepovratnih sredstev za tvoj startup\, 2. izvedba 
DESCRIPTION:Kot vsako leto doslej\, tudi letos pričakujemo objavo razpisa P2\, ki ga za mlada (do starosti 14 mesecev) inovativna podjetja razpiše Slovenski podjetniški sklad. Pred teboj je program priprav za razpis in tudi že prvo srečanje\, kjer boš spoznal\, ali ustrezaš pogojem razpisa. \n\n
X-ALT-DESC;FMTTYPE=text/html:Kot vsako leto doslej\, tudi letos pričakujemo objavo razpisa P2\, ki ga za mlada (do starosti 14 mesecev) inovativna podjetja razpiše Slovenski podjetniški sklad. Pred teboj je program priprav za razpis in tudi že prvo srečanje\, kjer boš spoznal\, ali ustrezaš pogojem razpisa. \n\n
LOCATION:Tovarna podjemov
END:VEVENT
END:VCALENDAR