BEGIN:VCALENDAR
VERSION:2.0
PRODID:-//AddThisEvent.com v1.0//EN
BEGIN:VEVENT
DTSTAMP:20191128T170000Z
ORGANIZER;CN=STARTUP:MAILTO:info@startup.si
STATUS:CONFIRMED
DTSTART:20191128T170000Z
DTEND:20191128T180000Z
SUMMARY:Start:up Maribor Founders Meetup November 
DESCRIPTION:Marca 2019 smo uspešno otvorili mesečna srečanja ustanoviteljev startup in scaleup podjetij »Start:up Maribor Founders Meetup«. Tokratni Founders Meetup gostita brata Mesarič\, oba podjetnika. Marko je soustanovitelj podjetja Modri planet\, ki ga je revija Manager uvrstila med najboljših šest slovenskih startupov\, ki se bodo v letu 2019 pognali v svet. Leto se izteka in rečemo lahko samo\, da jim to odlično uspeva…. Markov brat Ivan pa je tisti podjetnik\, ki nas vsakič znova prijazno pozdravi v legendarnem mariborskem lokalu Isabella in bo tokrat poskrbel za naše brbončice. Isabella je tudi lokacija tokratnega srečanja.  \n\n
X-ALT-DESC;FMTTYPE=text/html:Marca 2019 smo uspešno otvorili mesečna srečanja ustanoviteljev startup in scaleup podjetij »Start:up Maribor Founders Meetup«. Tokratni Founders Meetup gostita brata Mesarič\, oba podjetnika. Marko je soustanovitelj podjetja Modri planet\, ki ga je revija Manager uvrstila med najboljših šest slovenskih startupov\, ki se bodo v letu 2019 pognali v svet. Leto se izteka in rečemo lahko samo\, da jim to odlično uspeva…. Markov brat Ivan pa je tisti podjetnik\, ki nas vsakič znova prijazno pozdravi v legendarnem mariborskem lokalu Isabella in bo tokrat poskrbel za naše brbončice. Isabella je tudi lokacija tokratnega srečanja.  \n\n
LOCATION:Isabella
END:VEVENT
END:VCALENDAR