BEGIN:VCALENDAR
VERSION:2.0
PRODID:-//AddThisEvent.com v1.0//EN
BEGIN:VEVENT
DTSTAMP:20191126T120000Z
ORGANIZER;CN=STARTUP:MAILTO:info@startup.si
STATUS:CONFIRMED
DTSTART:20191126T120000Z
DTEND:20191126T130000Z
SUMMARY:Imagine Cup - odlična priložnost za razvoj novih rešitev
DESCRIPTION:Ali si vedel\, da je Microsoftov Imagine Cup odlična priložnost za začetek podjetniške poti?
Študentom tehnologom\, razvijalcem in podjetnikom iz vseh akademskih smeri ponuja priložnost\, da sodelujejo\, nadgradijo svoje spretnosti\, razvijejo tehnološko aplikacijo ter tako oživijo svojo strast\, obenem pa pridobijo perspektivo\, ki je potrebna za uvajanje koncepta na trg. Pridi na delavnico\, kjer ti bomo predstavili možnost sodelovanja na letošnjem tekmovanju. \n\n
X-ALT-DESC;FMTTYPE=text/html:Ali si vedel\, da je Microsoftov Imagine Cup odlična priložnost za začetek podjetniške poti?
Študentom tehnologom\, razvijalcem in podjetnikom iz vseh akademskih smeri ponuja priložnost\, da sodelujejo\, nadgradijo svoje spretnosti\, razvijejo tehnološko aplikacijo ter tako oživijo svojo strast\, obenem pa pridobijo perspektivo\, ki je potrebna za uvajanje koncepta na trg. Pridi na delavnico\, kjer ti bomo predstavili možnost sodelovanja na letošnjem tekmovanju. \n\n
LOCATION:Tovarna podjemov
END:VEVENT
END:VCALENDAR