BEGIN:VCALENDAR
VERSION:2.0
PRODID:-//AddThisEvent.com v1.0//EN
BEGIN:VEVENT
DTSTAMP:20191119T180000Z
ORGANIZER;CN=STARTUP:MAILTO:info@startup.si
STATUS:CONFIRMED
DTSTART:20191119T180000Z
DTEND:20191119T190000Z
SUMMARY:Start:up Müsli: Izzivi in priložnosti sodobne mobilnosti 
DESCRIPTION:KUber\, Airbnb\, Tesla\, nuTonomy\, Zoox\, Ori in slovenski Avant2go je le nekaj storitev\, ki temeljito spreminjajo način\, kako se premikamo\, potujemo in bivamo. Omenjene storitve so le začetek…. Kakšna bo prihodnost mobilnosti se bomo pogovarjali z Nino Majcen in Aljažem Andrejašem\, ki s storitvami svojih podjetij spreminjata panogo mobilnosti. 
 \n\n
X-ALT-DESC;FMTTYPE=text/html:KUber\, Airbnb\, Tesla\, nuTonomy\, Zoox\, Ori in slovenski Avant2go je le nekaj storitev\, ki temeljito spreminjajo način\, kako se premikamo\, potujemo in bivamo. Omenjene storitve so le začetek…. Kakšna bo prihodnost mobilnosti se bomo pogovarjali z Nino Majcen in Aljažem Andrejašem\, ki s storitvami svojih podjetij spreminjata panogo mobilnosti. 
 \n\n
LOCATION:KID Kibla
END:VEVENT
END:VCALENDAR