BEGIN:VCALENDAR
VERSION:2.0
PRODID:-//AddThisEvent.com v1.0//EN
BEGIN:VEVENT
DTSTAMP:20191212T170000Z
ORGANIZER;CN=STARTUP:MAILTO:info@startup.si
STATUS:CONFIRMED
DTSTART:20191212T170000Z
DTEND:20191212T180000Z
SUMMARY:Podjetniške zgodbe našega mesta
DESCRIPTION:Da »na mladih svet stoji«\, bomo dokazovali na decembrskem podjetniškem večeru\, ko nas bo ponovno gostil Klub Mariborski študentov v njihovi Pisarni. Slišali bomo dve mariborski podjetniški zgodbi: zgodbo Marka Židova in njegovih blagovnih znamk Tovarna kave\, Rooster Coffee in Rooster Lent\, ter Simona Soviča\, izkušenega startuperja in sokreatorja platforme doggo.si. \n\n
X-ALT-DESC;FMTTYPE=text/html:Da »na mladih svet stoji«\, bomo dokazovali na decembrskem podjetniškem večeru\, ko nas bo ponovno gostil Klub Mariborski študentov v njihovi Pisarni. Slišali bomo dve mariborski podjetniški zgodbi: zgodbo Marka Židova in njegovih blagovnih znamk Tovarna kave\, Rooster Coffee in Rooster Lent\, ter Simona Soviča\, izkušenega startuperja in sokreatorja platforme doggo.si. \n\n
LOCATION:Pisarna
END:VEVENT
END:VCALENDAR