BEGIN:VCALENDAR
VERSION:2.0
PRODID:-//AddThisEvent.com v1.0//EN
BEGIN:VEVENT
DTSTAMP:20191105T180000Z
ORGANIZER;CN=STARTUP:MAILTO:info@startup.si
STATUS:CONFIRMED
DTSTART:20191105T180000Z
DTEND:20191105T190000Z
SUMMARY:Start:up Müsli: Od ideje do produkta
DESCRIPTION:Kaj je tisto kar prepriča kupca? Dizajn\, inovativnost\, uporabna vrednost... Kupci so namreč v visoko konkurenčnem poslovnem svetu zahtevni in ne vedno predvidljivi. Na kavču Start:up Müslija bomo tokrat gostili dva prekaljena podjetniška mačka\, ki bosta z nami delila svoje podjetniške izkušnje. 
 \n\n
X-ALT-DESC;FMTTYPE=text/html:Kaj je tisto kar prepriča kupca? Dizajn\, inovativnost\, uporabna vrednost... Kupci so namreč v visoko konkurenčnem poslovnem svetu zahtevni in ne vedno predvidljivi. Na kavču Start:up Müslija bomo tokrat gostili dva prekaljena podjetniška mačka\, ki bosta z nami delila svoje podjetniške izkušnje. 
 \n\n
LOCATION:KID Kibla
END:VEVENT
END:VCALENDAR