BEGIN:VCALENDAR
VERSION:2.0
PRODID:-//AddThisEvent.com v1.0//EN
BEGIN:VEVENT
DTSTAMP:20150311T130000Z
ORGANIZER;CN=STARTUP:MAILTO:info@startup.si
STATUS:CONFIRMED
DTSTART:20150311T130000Z
DTEND:20150311T140000Z
SUMMARY:Start:up čvek z uspešnim podjetnikom Markom Kolblom   
DESCRIPTION:Izvedeli boste\, kaj se bo na podjetniškem področju dogajalo v naslednjih mesecih ter spoznali uspešnega podjetnika Marka Kolbla\, direktorja in solastnika podjetja Europlakat.  \n\n
X-ALT-DESC;FMTTYPE=text/html:Izvedeli boste\, kaj se bo na podjetniškem področju dogajalo v naslednjih mesecih ter spoznali uspešnega podjetnika Marka Kolbla\, direktorja in solastnika podjetja Europlakat.  \n\n
LOCATION:Tovarna podjemov\, podjetniški inkubator UM
END:VEVENT
END:VCALENDAR