BEGIN:VCALENDAR
VERSION:2.0
PRODID:-//AddThisEvent.com v1.0//EN
BEGIN:VEVENT
DTSTAMP:20191107T140000Z
ORGANIZER;CN=STARTUP:MAILTO:info@startup.si
STATUS:CONFIRMED
DTSTART:20191107T140000Z
DTEND:20191107T150000Z
SUMMARY:Spletno oblikovanje v praksi
DESCRIPTION:Te zanima oblikovanje spletnih strani\, a ne veš\, kako se ga lotiti? Razvijaš ali želiš razvijati svojo spletno stran? Ali veš\, da je dizajn spletne strani zelo pomemben za uspešnost le-te? Ali veš\, da lahko dizajn pomaga izboljšati uporabnost spletne strani\, posledično pa tudi njegovo prodajo? \n\n
X-ALT-DESC;FMTTYPE=text/html:Te zanima oblikovanje spletnih strani\, a ne veš\, kako se ga lotiti? Razvijaš ali želiš razvijati svojo spletno stran? Ali veš\, da je dizajn spletne strani zelo pomemben za uspešnost le-te? Ali veš\, da lahko dizajn pomaga izboljšati uporabnost spletne strani\, posledično pa tudi njegovo prodajo? \n\n
LOCATION:Tovarna podjemov
END:VEVENT
END:VCALENDAR