BEGIN:VCALENDAR
VERSION:2.0
PRODID:-//AddThisEvent.com v1.0//EN
BEGIN:VEVENT
DTSTAMP:20191023T140000Z
ORGANIZER;CN=STARTUP:MAILTO:info@startup.si
STATUS:CONFIRMED
DTSTART:20191023T140000Z
DTEND:20191023T150000Z
SUMMARY:Industrijski dizajn v praksi
DESCRIPTION:Te zanima industrijsko oblikovanje\, pa ne veš\, kako se ga lotiti? Razvijaš ali želiš razvijati ali proizvajati produkt? Pridi na delavnico\, na kateri se boš naučil osnov industrijskega dizajna in pridobil celovit vpogled v to industrijsko oblikovanje. \n\n
X-ALT-DESC;FMTTYPE=text/html:Te zanima industrijsko oblikovanje\, pa ne veš\, kako se ga lotiti? Razvijaš ali želiš razvijati ali proizvajati produkt? Pridi na delavnico\, na kateri se boš naučil osnov industrijskega dizajna in pridobil celovit vpogled v to industrijsko oblikovanje. \n\n
LOCATION:Tovarna podjemov\, podjetniški inkubator UM
END:VEVENT
END:VCALENDAR