BEGIN:VCALENDAR
VERSION:2.0
PRODID:-//AddThisEvent.com v1.0//EN
BEGIN:VEVENT
DTSTAMP:20191017T080000Z
ORGANIZER;CN=STARTUP:MAILTO:info@startup.si
STATUS:CONFIRMED
DTSTART:20191017T080000Z
DTEND:20191017T090000Z
SUMMARY:Innovation Jam Start:up Maribor 2019
DESCRIPTION:Innovation Jam Start:up Maribor je inovativni pristop povezovanja inovacijskih ekip uveljavljenih podjetij in najboljših dizajnerjev in programerjev iz startup okolja. Namen je razvoj in validiranje poslovnega modela ter izdelava digitalnega prototipa inovativnega produkta v dveh dneh. \n\n
X-ALT-DESC;FMTTYPE=text/html:Innovation Jam Start:up Maribor je inovativni pristop povezovanja inovacijskih ekip uveljavljenih podjetij in najboljših dizajnerjev in programerjev iz startup okolja. Namen je razvoj in validiranje poslovnega modela ter izdelava digitalnega prototipa inovativnega produkta v dveh dneh. \n\n
LOCATION:Tovarna podjemov\, podjetniški inkubator UM
END:VEVENT
END:VCALENDAR