BEGIN:VCALENDAR
VERSION:2.0
PRODID:-//AddThisEvent.com v1.0//EN
BEGIN:VEVENT
DTSTAMP:20191014T130000Z
ORGANIZER;CN=STARTUP:MAILTO:info@startup.si
STATUS:CONFIRMED
DTSTART:20191014T130000Z
DTEND:20191014T140000Z
SUMMARY:Storytelling = Storyselling
DESCRIPTION:Si želiš izvedeti kaj je dober »storytelling« in kako ga lahko uporabiš za prepoznavnost produkta na trgu?
Zakaj sploh pripovedujemo zgodbe?
Kaj moraš vedeti/definirati\, da lahko napišeš dobro zgodbo\, ki inspirira in motivira? 
Kateri so elementi dobre zgodbe?
 \n\n
X-ALT-DESC;FMTTYPE=text/html:Si želiš izvedeti kaj je dober »storytelling« in kako ga lahko uporabiš za prepoznavnost produkta na trgu?
Zakaj sploh pripovedujemo zgodbe?
Kaj moraš vedeti/definirati\, da lahko napišeš dobro zgodbo\, ki inspirira in motivira? 
Kateri so elementi dobre zgodbe?
 \n\n
LOCATION:Tovarna podjemov
END:VEVENT
END:VCALENDAR