BEGIN:VCALENDAR
VERSION:2.0
PRODID:-//AddThisEvent.com v1.0//EN
BEGIN:VEVENT
DTSTAMP:20191008T170000Z
ORGANIZER;CN=STARTUP:MAILTO:info@startup.si
STATUS:CONFIRMED
DTSTART:20191008T170000Z
DTEND:20191008T180000Z
SUMMARY:Start:up Müsli: Kako skupnost uporabiti za rast posla 
DESCRIPTION:Vse o izgradnji skupnosti\, odnosi z javnostmi (skupnost je ena izmed javnosti podjetja)\, kako lahko povečam ugled in PRepoznavnost podjetja\, kako naj gradim odnose s strankami\, poslovnimi partnerji\, zaposlenimi\, da bom s tem dvignil Prodajo\, kako naj se lotim komunikacije z novinarji in kako pritegniti njihovo zanimanje\, zakaj komunicirati s strankami tudi\, ko jim ne želim prodajati\, bomo govorili na tokratnem Start:up Musliju. \n\n
X-ALT-DESC;FMTTYPE=text/html:Vse o izgradnji skupnosti\, odnosi z javnostmi (skupnost je ena izmed javnosti podjetja)\, kako lahko povečam ugled in PRepoznavnost podjetja\, kako naj gradim odnose s strankami\, poslovnimi partnerji\, zaposlenimi\, da bom s tem dvignil Prodajo\, kako naj se lotim komunikacije z novinarji in kako pritegniti njihovo zanimanje\, zakaj komunicirati s strankami tudi\, ko jim ne želim prodajati\, bomo govorili na tokratnem Start:up Musliju. \n\n
LOCATION:KID Kibla
END:VEVENT
END:VCALENDAR