BEGIN:VCALENDAR
VERSION:2.0
PRODID:-//AddThisEvent.com v1.0//EN
BEGIN:VEVENT
DTSTAMP:20191007T130000Z
ORGANIZER;CN=STARTUP:MAILTO:info@startup.si
STATUS:CONFIRMED
DTSTART:20191007T130000Z
DTEND:20191007T140000Z
SUMMARY:Spletna trgovina
DESCRIPTION:Prodajaš preko spleta? Si želiš prodajati preko spleta? Te zanima kako obiskovalca spletne trgovine spremeniš v kupca? … Če je odgovor DA\, potem pridi na delavnico\, kjer ti bo mojstrica spletne trgovine Nastja Kramer\, solastnica uspešne spletne trgovine Malinca\,  pokazala kako se lotiš spletne prodaje in kako nadalje poskrbiš za rast.
 \n\n
X-ALT-DESC;FMTTYPE=text/html:Prodajaš preko spleta? Si želiš prodajati preko spleta? Te zanima kako obiskovalca spletne trgovine spremeniš v kupca? … Če je odgovor DA\, potem pridi na delavnico\, kjer ti bo mojstrica spletne trgovine Nastja Kramer\, solastnica uspešne spletne trgovine Malinca\,  pokazala kako se lotiš spletne prodaje in kako nadalje poskrbiš za rast.
 \n\n
LOCATION:Tovarna podjemov
END:VEVENT
END:VCALENDAR