BEGIN:VCALENDAR
VERSION:2.0
PRODID:-//AddThisEvent.com v1.0//EN
BEGIN:VEVENT
DTSTAMP:20191003T130000Z
ORGANIZER;CN=STARTUP:MAILTO:info@startup.si
STATUS:CONFIRMED
DTSTART:20191003T130000Z
DTEND:20191003T140000Z
SUMMARY:Kako zgraditi blagovno znamko na Instagramu @caszakavo
DESCRIPTION:Danes je Instagram eno od pomembnih orodij s katerimi podjetja gradijo in povečujejo svojo prepoznavnost in posledično prodajo. Velikokrat je Instagram prvi kanal preko katerega pridejo podjetja do prvih kupcev. Ker se zavedamo pomena\, ki ga ima Instagram za prodajo izdelkov in storitev\, smo povabili mojstrico Instagrama Nino Štefe\, da nam predstavi\, na njenem primeru @caszakavo kako se lotiti Instagrama. 
 \n\n
X-ALT-DESC;FMTTYPE=text/html:Danes je Instagram eno od pomembnih orodij s katerimi podjetja gradijo in povečujejo svojo prepoznavnost in posledično prodajo. Velikokrat je Instagram prvi kanal preko katerega pridejo podjetja do prvih kupcev. Ker se zavedamo pomena\, ki ga ima Instagram za prodajo izdelkov in storitev\, smo povabili mojstrico Instagrama Nino Štefe\, da nam predstavi\, na njenem primeru @caszakavo kako se lotiti Instagrama. 
 \n\n
LOCATION:Tovarna podjemov
END:VEVENT
END:VCALENDAR