BEGIN:VCALENDAR
VERSION:2.0
PRODID:-//AddThisEvent.com v1.0//EN
BEGIN:VEVENT
DTSTAMP:20190927T160000Z
ORGANIZER;CN=STARTUP:MAILTO:info@startup.si
STATUS:CONFIRMED
DTSTART:20190927T160000Z
DTEND:20190927T170000Z
SUMMARY:Start:up Maribor Founders Meetup: Od strasti do pridelave žlahtne kapljice do strasti v poslu
DESCRIPTION:Tako kot vinarji gojijo ljubezen do vinske trte in dela v vinogradu\, tako tudi vas podjetnike vodi strast do posla\, razvoja lastnih rešitev\, s katerimi želite trgu ponuditi nekaj edinstvenega. Vinarji z užitkom pobirajo grozdje\, ga stiskajo in z žlahtno kapljico polnijo sode\, prav tako kot vi z užitkom bedite mnoge noči\, preskakujete ovire na svoji podjetniški poti in žanjete uspehe vaše ekipe.  \n\n
X-ALT-DESC;FMTTYPE=text/html:Tako kot vinarji gojijo ljubezen do vinske trte in dela v vinogradu\, tako tudi vas podjetnike vodi strast do posla\, razvoja lastnih rešitev\, s katerimi želite trgu ponuditi nekaj edinstvenega. Vinarji z užitkom pobirajo grozdje\, ga stiskajo in z žlahtno kapljico polnijo sode\, prav tako kot vi z užitkom bedite mnoge noči\, preskakujete ovire na svoji podjetniški poti in žanjete uspehe vaše ekipe.  \n\n
LOCATION:Vinska klet Frešer
END:VEVENT
END:VCALENDAR