BEGIN:VCALENDAR
VERSION:2.0
PRODID:-//AddThisEvent.com v1.0//EN
BEGIN:VEVENT
DTSTAMP:20190829T140000Z
ORGANIZER;CN=STARTUP:MAILTO:info@startup.si
STATUS:CONFIRMED
DTSTART:20190829T140000Z
DTEND:20190829T150000Z
SUMMARY:SK roadshow Maribor 2019
DESCRIPTION:Na dogodku boste spoznali kako do 75.000 EUR konvertibilnega posojila oz. do 600.000 EUR lastniške investicije\, ki jih inovativnim podjetjem omogočata novo objavljena razpisa SK75 in SI-SK Slovenskega podjetniškega sklada. Prav tako boste od izkušenih podjetnikov in investitorjev prejeli neprecenljive nasvete za vaš podjetniški uspeh!  \n\n
X-ALT-DESC;FMTTYPE=text/html:Na dogodku boste spoznali kako do 75.000 EUR konvertibilnega posojila oz. do 600.000 EUR lastniške investicije\, ki jih inovativnim podjetjem omogočata novo objavljena razpisa SK75 in SI-SK Slovenskega podjetniškega sklada. Prav tako boste od izkušenih podjetnikov in investitorjev prejeli neprecenljive nasvete za vaš podjetniški uspeh!  \n\n
LOCATION:Tovarna podjemov
END:VEVENT
END:VCALENDAR