BEGIN:VCALENDAR
VERSION:2.0
PRODID:-//AddThisEvent.com v1.0//EN
BEGIN:VEVENT
DTSTAMP:20190903T170000Z
ORGANIZER;CN=STARTUP:MAILTO:info@startup.si
STATUS:CONFIRMED
DTSTART:20190903T170000Z
DTEND:20190903T180000Z
SUMMARY:Start:up Müsli: Kako uporabiti umetno inteligenco v vašem poslu
DESCRIPTION:Umetna inteligenca postaja vedno bolj vroča tema in vse več podjetij se zaveda priložnosti\, ki jih prinaša. Je tvoje podjetje med njimi? Ali tukaj izgubljaš poslovne priložnosti? \n\n
X-ALT-DESC;FMTTYPE=text/html:Umetna inteligenca postaja vedno bolj vroča tema in vse več podjetij se zaveda priložnosti\, ki jih prinaša. Je tvoje podjetje med njimi? Ali tukaj izgubljaš poslovne priložnosti? \n\n
LOCATION:KID Kibla
END:VEVENT
END:VCALENDAR