BEGIN:VCALENDAR
VERSION:2.0
PRODID:-//AddThisEvent.com v1.0//EN
BEGIN:VEVENT
DTSTAMP:20190828T130000Z
ORGANIZER;CN=STARTUP:MAILTO:info@startup.si
STATUS:CONFIRMED
DTSTART:20190828T130000Z
DTEND:20190828T140000Z
SUMMARY:Učinkovit prodajni razgovor
DESCRIPTION:Delavnica Učinkoviti prodajni razgovor je izvzet iz 3-dnevnega programa Top Selling Professional »Moč pogajanj«\, ki je licenciran program nemškega podjetja KHD Group in temelji na osnovi psihologije prodaje\, tehnikah vrhunskega prepričevanja in  uspešnega vzpostavljanja odnosa s stranko ter uporabi hipnotičnih vzorcev pri komunikaciji.  \n\n
X-ALT-DESC;FMTTYPE=text/html:Delavnica Učinkoviti prodajni razgovor je izvzet iz 3-dnevnega programa Top Selling Professional »Moč pogajanj«\, ki je licenciran program nemškega podjetja KHD Group in temelji na osnovi psihologije prodaje\, tehnikah vrhunskega prepričevanja in  uspešnega vzpostavljanja odnosa s stranko ter uporabi hipnotičnih vzorcev pri komunikaciji.  \n\n
LOCATION:Tovarna podjemov
END:VEVENT
END:VCALENDAR