BEGIN:VCALENDAR
VERSION:2.0
PRODID:-//AddThisEvent.com v1.0//EN
BEGIN:VEVENT
DTSTAMP:20190827T130000Z
ORGANIZER;CN=STARTUP:MAILTO:info@startup.si
STATUS:CONFIRMED
DTSTART:20190827T130000Z
DTEND:20190827T140000Z
SUMMARY:Učinkovito vodenje sestankov in delegiranje nalog
DESCRIPTION:Še nikoli ni bilo vodenje tako pomembno\, kot je danes! Sodoben vodja mora – ne samo v kriznih časih – znati pravilno usmerjati svoje sodelavce in biti dober vzgled. Biti mora karizmatična in močna osebnost\, saj le takšno lahko spremljajo močni sodelavci.  \n\n
X-ALT-DESC;FMTTYPE=text/html:Še nikoli ni bilo vodenje tako pomembno\, kot je danes! Sodoben vodja mora – ne samo v kriznih časih – znati pravilno usmerjati svoje sodelavce in biti dober vzgled. Biti mora karizmatična in močna osebnost\, saj le takšno lahko spremljajo močni sodelavci.  \n\n
LOCATION:Tovarna podjemov
END:VEVENT
END:VCALENDAR