BEGIN:VCALENDAR
VERSION:2.0
PRODID:-//AddThisEvent.com v1.0//EN
BEGIN:VEVENT
DTSTAMP:20190514T130000Z
ORGANIZER;CN=STARTUP:MAILTO:info@startup.si
STATUS:CONFIRMED
DTSTART:20190514T130000Z
DTEND:20190514T140000Z
SUMMARY:Napredna uporaba orodij digitalnega marketinga 
DESCRIPTION:Skrivni »3H traffic sistem«\, ki ga še NE poznate ... ampak ga MORATE\, če želite preživeti igro spletnega oglaševanja.
3-dnevni program\, namenjena resnim podjetnikom\, ki želijo hitro povečati prodajo s pomočjo Googla in Facebooka. Ste vedeli\, da obstaja »skrivni« sistem\, ki vam omogoča\, da pridobite poceni promet in hitro prodajo\, katerega vam ne bo razkrilo nobeno oglaševalsko omrežje?
 \n\n
X-ALT-DESC;FMTTYPE=text/html:Skrivni »3H traffic sistem«\, ki ga še NE poznate ... ampak ga MORATE\, če želite preživeti igro spletnega oglaševanja.
3-dnevni program\, namenjena resnim podjetnikom\, ki želijo hitro povečati prodajo s pomočjo Googla in Facebooka. Ste vedeli\, da obstaja »skrivni« sistem\, ki vam omogoča\, da pridobite poceni promet in hitro prodajo\, katerega vam ne bo razkrilo nobeno oglaševalsko omrežje?
 \n\n
LOCATION:Tovarna podjemov\, podjetniški inkubator UM
END:VEVENT
END:VCALENDAR