BEGIN:VCALENDAR
VERSION:2.0
PRODID:-//AddThisEvent.com v1.0//EN
BEGIN:VEVENT
DTSTAMP:20190507T170000Z
ORGANIZER;CN=STARTUP:MAILTO:info@startup.si
STATUS:CONFIRMED
DTSTART:20190507T170000Z
DTEND:20190507T180000Z
SUMMARY:Start:up Müsli: Komunikacija v poslu – kaj je ključ do uspeha
DESCRIPTION:Zakaj nekaterim ljudem preprosto vse verjamemo in se hitro navdušimo nad njihovimi idejami\, drugim pa težko sledimo v pogovoru in se ne vidimo v sodelovanju z njimi? 
Dobra komunikacija je ena najbolj pomembnih veščin tako v poslovnem kot tudi v vsakdanjem življenju. Komunikacijske spretnosti bistveno vplivajo na to\, kako nas dojema okolica in pripomorejo k temu\, da lažje dosežemo zastavljene cilje. 
 \n\n
X-ALT-DESC;FMTTYPE=text/html:Zakaj nekaterim ljudem preprosto vse verjamemo in se hitro navdušimo nad njihovimi idejami\, drugim pa težko sledimo v pogovoru in se ne vidimo v sodelovanju z njimi? 
Dobra komunikacija je ena najbolj pomembnih veščin tako v poslovnem kot tudi v vsakdanjem življenju. Komunikacijske spretnosti bistveno vplivajo na to\, kako nas dojema okolica in pripomorejo k temu\, da lažje dosežemo zastavljene cilje. 
 \n\n
LOCATION:KID KIBLA\, Maribor
END:VEVENT
END:VCALENDAR