BEGIN:VCALENDAR
VERSION:2.0
PRODID:-//AddThisEvent.com v1.0//EN
BEGIN:VEVENT
DTSTAMP:20190409T170000Z
ORGANIZER;CN=STARTUP:MAILTO:info@startup.si
STATUS:CONFIRMED
DTSTART:20190409T170000Z
DTEND:20190409T180000Z
SUMMARY:Start:up Müsli: Kako z vlogom/blogom do večje prodaje
DESCRIPTION:Želiš povečati prepoznavnost svoje blagovne znamke\, dvigniti prodajo in uporabnikom približati svoje produkte ali storitve? Če JA\, potem pridi na Start:up Müsli\, kjer boš spoznal\, zakaj je vsebina kraljica marketinga in kako ti vlog ali blog lahko pomaga zgraditi večjo prepoznavnost in povezanost z uporabniki\, posledično pa tudi dvigniti prodajo.  \n\n
X-ALT-DESC;FMTTYPE=text/html:Želiš povečati prepoznavnost svoje blagovne znamke\, dvigniti prodajo in uporabnikom približati svoje produkte ali storitve? Če JA\, potem pridi na Start:up Müsli\, kjer boš spoznal\, zakaj je vsebina kraljica marketinga in kako ti vlog ali blog lahko pomaga zgraditi večjo prepoznavnost in povezanost z uporabniki\, posledično pa tudi dvigniti prodajo.  \n\n
LOCATION:KID KIBLA\, Maribor
END:VEVENT
END:VCALENDAR