BEGIN:VCALENDAR
VERSION:2.0
PRODID:-//AddThisEvent.com v1.0//EN
BEGIN:VEVENT
DTSTAMP:20190410T110000Z
ORGANIZER;CN=STARTUP:MAILTO:info@startup.si
STATUS:CONFIRMED
DTSTART:20190410T110000Z
DTEND:20190410T120000Z
SUMMARY:Kako si sam narediš svojo spletno stran
DESCRIPTION:Bi zate bil izziv\, da si sam izdelaš spletno stran z WordPress tehnologijo? Da se ne boš sam mučil z začetnim spoznavanjem z orodjem WordPress\, te vabimo na sklop 3 praktičnih delavnic\, kjer te bomo naučili vse\, kar moraš vedeti\, da boš lahko sam izdelal spletno stran. \n\n
X-ALT-DESC;FMTTYPE=text/html:Bi zate bil izziv\, da si sam izdelaš spletno stran z WordPress tehnologijo? Da se ne boš sam mučil z začetnim spoznavanjem z orodjem WordPress\, te vabimo na sklop 3 praktičnih delavnic\, kjer te bomo naučili vse\, kar moraš vedeti\, da boš lahko sam izdelal spletno stran. \n\n
LOCATION:Tovarna podjemov\, podjetniški inkubator UM
END:VEVENT
END:VCALENDAR