BEGIN:VCALENDAR
VERSION:2.0
PRODID:-//AddThisEvent.com v1.0//EN
BEGIN:VEVENT
DTSTAMP:20190326T180000Z
ORGANIZER;CN=STARTUP:MAILTO:info@startup.si
STATUS:CONFIRMED
DTSTART:20190326T180000Z
DTEND:20190326T190000Z
SUMMARY:Start:up Müsli: Taktike uspešne spletne trgovine
DESCRIPTION:Imaš spletno trgovino in se sprašuješ\, katere produkte izbrati ter kako povečati prodajo? Pridi na Start:up Müsli\,  kjer ti bodo ustanovitelji spletnih trgovin zaupali svojo pot od postavitve spletne trgovine pa vse do uspešne prodaje preko spleta. Njihovi produkti niso najbolj tipični za splet\, zato bodo njihove zgodbe toliko bolj zanimive. \n\n
X-ALT-DESC;FMTTYPE=text/html:Imaš spletno trgovino in se sprašuješ\, katere produkte izbrati ter kako povečati prodajo? Pridi na Start:up Müsli\,  kjer ti bodo ustanovitelji spletnih trgovin zaupali svojo pot od postavitve spletne trgovine pa vse do uspešne prodaje preko spleta. Njihovi produkti niso najbolj tipični za splet\, zato bodo njihove zgodbe toliko bolj zanimive. \n\n
LOCATION:KID KIBLA\, Maribor
END:VEVENT
END:VCALENDAR