BEGIN:VCALENDAR
VERSION:2.0
PRODID:-//AddThisEvent.com v1.0//EN
BEGIN:VEVENT
DTSTAMP:20190325T140000Z
ORGANIZER;CN=STARTUP:MAILTO:info@startup.si
STATUS:CONFIRMED
DTSTART:20190325T140000Z
DTEND:20190325T150000Z
SUMMARY:Product design v praksi
DESCRIPTION:Ste se kdaj vprašali\, zakaj je izkušnja uporabe nekaterih izdelkov ali storitev čista poezija\, užitek in navudšenje\, med tem ko drugih trpljenje\, zatikanje in slaba volja? Odgovor se skriva v procesu celovitega načrtovanja izdelka ali storitve\, v angleščini tako imenovani “product design process”.  \n\n
X-ALT-DESC;FMTTYPE=text/html:Ste se kdaj vprašali\, zakaj je izkušnja uporabe nekaterih izdelkov ali storitev čista poezija\, užitek in navudšenje\, med tem ko drugih trpljenje\, zatikanje in slaba volja? Odgovor se skriva v procesu celovitega načrtovanja izdelka ali storitve\, v angleščini tako imenovani “product design process”.  \n\n
LOCATION:Tovarna podjemov\, podjetniški inkubator UM
END:VEVENT
END:VCALENDAR