BEGIN:VCALENDAR
VERSION:2.0
PRODID:-//AddThisEvent.com v1.0//EN
BEGIN:VEVENT
DTSTAMP:20190319T140000Z
ORGANIZER;CN=STARTUP:MAILTO:info@startup.si
STATUS:CONFIRMED
DTSTART:20190319T140000Z
DTEND:20190319T150000Z
SUMMARY:Kako si sam narediš svojo spletno stran
DESCRIPTION:Bi zate bil izziv\, da si sam izdelaš spletno stran z orodjem WordPress? Trenutno je 31 % vseh spletnih strani na svetu izdelanih 
z orodjem WordPress. Zakaj ne bi svoje spletne strani na tej tehnologiji izdelal tudi ti? Še posebej\, če imaš omejena finančna sredstva\, je to odlična priložnost\, da si spletno stran izdelaš sam. \n\n
X-ALT-DESC;FMTTYPE=text/html:Bi zate bil izziv\, da si sam izdelaš spletno stran z orodjem WordPress? Trenutno je 31 % vseh spletnih strani na svetu izdelanih 
z orodjem WordPress. Zakaj ne bi svoje spletne strani na tej tehnologiji izdelal tudi ti? Še posebej\, če imaš omejena finančna sredstva\, je to odlična priložnost\, da si spletno stran izdelaš sam. \n\n
LOCATION:Tovarna podjemov\, podjetniški inkubator UM
END:VEVENT
END:VCALENDAR