BEGIN:VCALENDAR
VERSION:2.0
PRODID:-//AddThisEvent.com v1.0//EN
BEGIN:VEVENT
DTSTAMP:20190219T180500Z
ORGANIZER;CN=STARTUP:MAILTO:info@startup.si
STATUS:CONFIRMED
DTSTART:20190219T180500Z
DTEND:20190219T190500Z
SUMMARY:Od odlašanja do obsedenosti s produktivnostjo in nazaj
DESCRIPTION:Dolgi sestanki brez agende in z množico prisotnih z monologi namesto diskusije ter nešteti kratki ad-hoc sestanki bi morali biti glavni osumljenci\, ko se začnemo spraševati\, kam neki je izginil produktivni čas v dnevu oziroma\, ne glede na to\, ali smo freelancerji ali zaposleni v podjetju\, razvijalci ali managerji. Ali veste\, katere  taktike uporabiti v boju s časovnimi in energijskimi vampirji? \n\n
X-ALT-DESC;FMTTYPE=text/html:Dolgi sestanki brez agende in z množico prisotnih z monologi namesto diskusije ter nešteti kratki ad-hoc sestanki bi morali biti glavni osumljenci\, ko se začnemo spraševati\, kam neki je izginil produktivni čas v dnevu oziroma\, ne glede na to\, ali smo freelancerji ali zaposleni v podjetju\, razvijalci ali managerji. Ali veste\, katere  taktike uporabiti v boju s časovnimi in energijskimi vampirji? \n\n
LOCATION:KID KIBLA
END:VEVENT
END:VCALENDAR