BEGIN:VCALENDAR
VERSION:2.0
PRODID:-//AddThisEvent.com v1.0//EN
BEGIN:VEVENT
DTSTAMP:20190305T120000Z
ORGANIZER;CN=STARTUP:MAILTO:info@startup.si
STATUS:CONFIRMED
DTSTART:20190305T120000Z
DTEND:20190305T130000Z
SUMMARY:Uporaba orodja Google Ads v praksi
DESCRIPTION:Google Ads je poleg Facebooka še vedno glavno orodje plačljivega spletnega marketinga. Ima nepogrešljivo mesto med orodji za celovit in učinkovit digitalni marketing. Naslednji podatki govorijo zase: več kot 70 % iskanj se opravi preko Googlovega iskalnika in kar 40 % vseh klikov v iskalniku (vključujoč organske zadetke) odpade na prve tri oglase. \n\n
X-ALT-DESC;FMTTYPE=text/html:Google Ads je poleg Facebooka še vedno glavno orodje plačljivega spletnega marketinga. Ima nepogrešljivo mesto med orodji za celovit in učinkovit digitalni marketing. Naslednji podatki govorijo zase: več kot 70 % iskanj se opravi preko Googlovega iskalnika in kar 40 % vseh klikov v iskalniku (vključujoč organske zadetke) odpade na prve tri oglase. \n\n
LOCATION:Tovarna podjemov\, podjetniški inkubator UM
END:VEVENT
END:VCALENDAR