BEGIN:VCALENDAR
VERSION:2.0
PRODID:-//AddThisEvent.com v1.0//EN
BEGIN:VEVENT
DTSTAMP:20190222T120000Z
ORGANIZER;CN=STARTUP:MAILTO:info@startup.si
STATUS:CONFIRMED
DTSTART:20190222T120000Z
DTEND:20190222T130000Z
SUMMARY:Načrtovanje in priprava finančnega plana za razpis P2 (dodatni termin)  
DESCRIPTION:Priprava finančnega načrta običajno povzroča podjetnikom največ težav. Zato bomo od postavke do postavke razdelali sestavine finančnega plana\, kot ga predvideva razpis. Razjasnili bomo morebitne nejasnosti iz razpisne dokumentacije. Udeleženci boste na praktičnem primeru dobili navodila za izpolnitev finančnega dela prijave. \n\n
X-ALT-DESC;FMTTYPE=text/html:Priprava finančnega načrta običajno povzroča podjetnikom največ težav. Zato bomo od postavke do postavke razdelali sestavine finančnega plana\, kot ga predvideva razpis. Razjasnili bomo morebitne nejasnosti iz razpisne dokumentacije. Udeleženci boste na praktičnem primeru dobili navodila za izpolnitev finančnega dela prijave. \n\n
LOCATION:Tovarna podjemov\, podjetniški inkubator UM
END:VEVENT
END:VCALENDAR