BEGIN:VCALENDAR
VERSION:2.0
PRODID:-//AddThisEvent.com v1.0//EN
BEGIN:VEVENT
DTSTAMP:20181204T141500Z
ORGANIZER;CN=STARTUP:MAILTO:info@startup.si
STATUS:CONFIRMED
DTSTART:20181204T141500Z
DTEND:20181204T151500Z
SUMMARY:Delavnica: Taktike in orodja za povečanje spletne prodaje 
DESCRIPTION:Že obrabljena fraza je\, da je na spletu mogoče vse meriti in je tukaj res enostavno biti učinkovit. Vsakodnevna praksa pa žal pokaže\, da nas večina uporablja in izkorišča le drobec razpoložljivih metod in orodij\, ki nam omogočajo načrtovanje in merjenje učinkovitosti našega spletnega komuniciranja. \n\n
X-ALT-DESC;FMTTYPE=text/html:Že obrabljena fraza je\, da je na spletu mogoče vse meriti in je tukaj res enostavno biti učinkovit. Vsakodnevna praksa pa žal pokaže\, da nas večina uporablja in izkorišča le drobec razpoložljivih metod in orodij\, ki nam omogočajo načrtovanje in merjenje učinkovitosti našega spletnega komuniciranja. \n\n
LOCATION:Tovarna podjemov\, podjetniški inkubator UM
END:VEVENT
END:VCALENDAR