BEGIN:VCALENDAR
VERSION:2.0
PRODID:-//AddThisEvent.com v1.0//EN
BEGIN:VEVENT
DTSTAMP:20181127T170500Z
ORGANIZER;CN=STARTUP:MAILTO:info@startup.si
STATUS:CONFIRMED
DTSTART:20181127T170500Z
DTEND:20181127T180500Z
SUMMARY:JavaScript Maribor #1
DESCRIPTION:V 92. ediciji Spletnih uric Maribor bomo priča posebnemu dogodku - 1. React Development Meetupu v Mariboru. 

Kdaj in kje? V torek zvečer smo v Kibli\, kot vedno - tokrat začnemo uro prej\, 18:05 \n\n
X-ALT-DESC;FMTTYPE=text/html:V 92. ediciji Spletnih uric Maribor bomo priča posebnemu dogodku - 1. React Development Meetupu v Mariboru. 

Kdaj in kje? V torek zvečer smo v Kibli\, kot vedno - tokrat začnemo uro prej\, 18:05 \n\n
LOCATION:Ulica kneza Koclja 9\, 2000 Maribor\, Slovenia
END:VEVENT
END:VCALENDAR