BEGIN:VCALENDAR
VERSION:2.0
PRODID:-//AddThisEvent.com v1.0//EN
BEGIN:VEVENT
DTSTAMP:20181120T141500Z
ORGANIZER;CN=STARTUP:MAILTO:info@startup.si
STATUS:CONFIRMED
DTSTART:20181120T141500Z
DTEND:20181120T151500Z
SUMMARY:Delavnica: Optimizacija davkov podjetnika
DESCRIPTION:Bliža se konec leta in marsikateri podjetnik se že drži za glavo\, kajti čaka ga priprava na oddajo davčne bilance. Kot podjetnik imaš vsakodnevno v mislih 1000 in eno stvar\, ki jo želiš/moraš obvladati. Področje financ je eno izmed tistih\, ki je za delovanje podjetja še kako pomembno\, a ga večina podjetnikov ne obvladuje popolnoma. Kupi predpisov\, pravniški jezik in zbiranje dokumentacije je zagotovo nočna mora marsikaterega podjetnika\, zato to področje največkrat kar prepusti računovodstvu\, brez da bi sam razumel osnove in s tem izboljšal svoje poslovne rezultate. \n\n
X-ALT-DESC;FMTTYPE=text/html:Bliža se konec leta in marsikateri podjetnik se že drži za glavo\, kajti čaka ga priprava na oddajo davčne bilance. Kot podjetnik imaš vsakodnevno v mislih 1000 in eno stvar\, ki jo želiš/moraš obvladati. Področje financ je eno izmed tistih\, ki je za delovanje podjetja še kako pomembno\, a ga večina podjetnikov ne obvladuje popolnoma. Kupi predpisov\, pravniški jezik in zbiranje dokumentacije je zagotovo nočna mora marsikaterega podjetnika\, zato to področje največkrat kar prepusti računovodstvu\, brez da bi sam razumel osnove in s tem izboljšal svoje poslovne rezultate. \n\n
LOCATION:Tovarna podjemov\, podjetniški inkubator UM
END:VEVENT
END:VCALENDAR