BEGIN:VCALENDAR
VERSION:2.0
PRODID:-//AddThisEvent.com v1.0//EN
BEGIN:VEVENT
DTSTAMP:20181116T180000Z
ORGANIZER;CN=STARTUP:MAILTO:info@startup.si
STATUS:CONFIRMED
DTSTART:20181116T180000Z
DTEND:20181116T190000Z
SUMMARY:Podjetniški družabni večer Start:up Maribor
DESCRIPTION:16. novembra ob 19. uri\, vas vabimo\, da se nam pridružite v Vetrinjskem dvoru na podjetniškem družabnem večeru Start:up Maribor\, kjer boste spoznali živahno podjetniško skupnost našega mesta. \n\n
X-ALT-DESC;FMTTYPE=text/html:16. novembra ob 19. uri\, vas vabimo\, da se nam pridružite v Vetrinjskem dvoru na podjetniškem družabnem večeru Start:up Maribor\, kjer boste spoznali živahno podjetniško skupnost našega mesta. \n\n
LOCATION:@Vetrinjski dvor\, Maribor
END:VEVENT
END:VCALENDAR