BEGIN:VCALENDAR
VERSION:2.0
PRODID:-//AddThisEvent.com v1.0//EN
BEGIN:VEVENT
DTSTAMP:20181009T170500Z
ORGANIZER;CN=STARTUP:MAILTO:info@startup.si
STATUS:CONFIRMED
DTSTART:20181009T170500Z
DTEND:20181009T180500Z
SUMMARY:Start:up Müsli: Ideje in tehnologije za prihodnost mobilnosti
DESCRIPTION:Kakšna bo naša prihodnost na področju mobilnosti? Se bomo premikali v letečih vozilih\, vse nakupe opravljali le preko mobilnih naprav\, se izobraževali na daljavo in delali v podjetjih\, katerih zaposleni bodo v stiku le preko računalnikov? \n\n
X-ALT-DESC;FMTTYPE=text/html:Kakšna bo naša prihodnost na področju mobilnosti? Se bomo premikali v letečih vozilih\, vse nakupe opravljali le preko mobilnih naprav\, se izobraževali na daljavo in delali v podjetjih\, katerih zaposleni bodo v stiku le preko računalnikov? \n\n
LOCATION:@KID KIBLA\, Maribor
END:VEVENT
END:VCALENDAR